Workbook

Sheet ส่วน1
A1: แบบสรุป ความพึงพอใจต่อการอบรม/ สัมมนา/ ประชุมเชิงปฏิบัติการ
A2: ประเภทโครงการ
A3: ชื่อโครงการ | B3: โครงการประชุมชี้แจงแนวทางการดำเนินงานแก่ภาคีเครือข่ายของศูนย์วิชาการ เขตสุขภาพที่ 7 ปีงบประมาณ 2564
A4: กิจกรรมย่อย | B4: ชี้แจงแนวทางการดำเนินงานแก่ภาคีเครือข่ายของศูนย์วิชาการ เขตสุขภาพที่ 7 ปีงบประมาณ 2564
B5: ระหว่างวันที่ 17 – 18 พฤศจิกายน 2563 ณ ห้องประชุมมงกุฎเพชร โรงแรมโฆษะจังหวัดขอนแก่น
A7: ส่วนที่ 1 ข้อมูลทั่วไป
A8: เพศ | B8: จำนวน | C8: ร้อยละ | D8: ตำแหน่ง | E8: จำนวน | F8: ร้อยละ
A9: ชาย | B9: 67 | C9: =B9*100/B11 -> 25.769231 | D9: นักจิตวิทยา | E9: 10 | F9: =E9/E14*100 -> 3.8461538
A10: หญิง | B10: 193 | C10: =B10*100/B11 -> 74.230769 | D10: พยาบาล | E10: 127 | F10: =E10/E14*100 -> 48.846154
A11: รวม | B11: =B9+B10 -> 260 | C11: 100 | D11: นักวิชาการสาธารณสุข | E11: 102 | F11: =E11/E14*100 -> 39.230769
A12: อายุ | B12: จำนวน | C12: ร้อยละ | D12: นักสังคมสงเคราะห์ | E12: 10 | F12: =E12/E14*100 -> 3.8461538
A13: ต่ำกว่า 20 ปี | B13: 0 | C13: =B13*100/B19 -> 0 | D13: อื่นๆ(จพ.สาธารณสุข,เภสัชกร,ผู้ช่วย สสอ.) | E13: 11 | F13: =E13/E14*100 -> 4.2307692
A14: 20 – 29 ปี | B14: 38 | C14: =B14*100/B19 -> 14.615385 | D14: รวม | E14: =SUM(E9:E13) -> 260 | F14: =SUM(F9:F13) -> 100
A15: 30 – 39 ปี | B15: 71 | C15: =B15*100/B19 -> 27.307692 | D15: งานที่รับผิดชอบ | E15: จำนวน | F15: ร้อยละ
A16: 40 – 49 ปี | B16: 87 | C16: 39.54 | D16: งานสุขภาพจิตเป็นหลัก | E16: 60 | F16: =E16/E19*100 -> 23.076923
A17: 50 - 59 ปี | B17: 64 | C17: =B17*100/B19 -> 24.615385 | D17: งานสุขภาพจิต แต่ไม่ใช่งานสุขภาพจิตเป็นหลัก | E17: 200 | F17: =E17/E19*100 -> 76.923077
A18: 60 ปีขึ้นไป | B18: 0 | C18: =B18/30*100 -> 0 | D18: อื่นๆ ระบุ................. | E18: 0 | F18: =E18/E19*100 -> 0
A19: รวม | B19: =SUM(B13:B18) -> 260 | C19: 100 | D19: รวม | E19: =SUM(E16:E18) -> 260 | F19: =SUM(F16:F18) -> 100
D20: หน่วยงานที่สังกัด
D21: สำนักงานสาธารณสุขจังหวัด | E21: 24 | F21: =E21/E28*100 -> 9.2307692
D22: โรงพยาบาลศูนย์ | E22: 15 | F22: =E22/E28*100 -> 5.7692308
D23: สำนักงานสาธารณสุขอำเภอ | E23: 83 | F23: =E23/E28*100 -> 31.923077
D24: โรงพยาบาลทั่วไป | E24: 13 | F24: =E24/E28*100 -> 5
D25: โรงพยาบาลชุมชน | E25: 101 | F25: =E25/E28*100 -> 38.846154
D26: โรงพยาบาลส่งเสริมสุขภาพตำบล | E26: 24 | F26: =E26/E28*100 -> 9.2307692
D27: อื่นๆ ระบุ................. | E27: 0 | F27: =E27/E28*100 -> 0
D28: รวม | E28: =SUM(E21:E27) -> 260 | F28: =SUM(F21:F27) -> 100

Sheet ส่วน2
A1: ความพึงพอใจต่อภารกิจหลักศูนย์สุขภาพจิตที่ 7
A3: ประเด็นประเมิน | C3: ระดับความพึงพอใจ | I3: รวม (n) | J3: คะแนนรวม | K3: คะแนนเฉลี่ย | L3: ส่วนเบี่ยงเบนมาตรฐาน
C4: มากที่สุด | D4: มาก | E4: ปานกลาง | F4: น้อย | G4: น้อยที่สุด | H4: ไม่แสดงความคิดเห็น
A5: 1. เนื้อหาความรู้ที่ได้รับ
A6: 1.1 เหมาะสมทันยุคสมัย | B6: จำนวน | C6: 140 | D6: 111 | E6: 9 | F6: 0 | G6: 0 | H6: 0 | I6: =C6+D6+E6+F6+G6+H6 -> 260 | J6: =(C6*5)+(D6*4)+(E6*3)+(F6*2)+(G6*1) -> 1171 | K6: =J6/I6 -> 4.5038462 | L6: 0.602
B7: ร้อยละ | C7: =C6*100/I6 -> 53.846154 | D7: =D6*100/I6 -> 42.692308 | E7: =E6*100/I6 -> 3.4615385 | F7: =F6*100/I6 -> 0 | G7: =G6*100/I6 -> 0 | H7: =H6*100/I6 -> 0 | I7: =SUM(C7:H7) -> 100
A8: 1.2 เข้าใจง่าย | B8: จำนวน | C8: 128 | D8: 97 | E8: 35 | F8: 0 | G8: 0 | H8: 0 | I8: =SUM(C8:H8) -> 260 | J8: =(C8*5)+(D8*4)+(E8*3)+(F8*2)+(G8*1) -> 1133 | K8: =J8/I8 -> 4.3576923 | L8: 0.638
B9: ร้อยละ | C9: =C8*100/I8 -> 49.230769 | D9: =D8*100/I8 -> 37.307692 | E9: =E8*100/I8 -> 13.461538 | F9: =F8*100/I8 -> 0 | G9: =G8*100/I8 -> 0 | H9: =H8*100/I8 -> 0 | I9: =SUM(C9:H9) -> 100
A10: 1.3 นำไปใช้ประโยชน์ได้ | B10: จำนวน | C10: 137 | D10: 89 | E10: 34 | F10: 0 | G10: 0 | H10: 0 | I10: =C10+D10+E10+F10+G10+H10 -> 260 | J10: =(C10*5)+(D10*4)+(E10*3)+(F10*2)+(G10*1) -> 1143 | K10: =J10/I10 -> 4.3961538 | L10: 0.522
B11: ร้อยละ | C11: =C10*100/I10 -> 52.692308 | D11: =D10*100/I10 -> 34.230769 | E11: =E10*100/I10 -> 13.076923 | F11: =F10*100/I10 -> 0 | G11: =G10*100/I10 -> 0 | H11: =H10*100/I10 -> 0 | I11: =SUM(C11:H11) -> 100
A12: 1.4 สอดคล้องกับวัตถุประสงค์ของโครงการ | B12: จำนวน | C12: 167 | D12: 90 | E12: 3 | F12: 0 | G12: 0 | H12: 0 | I12: =C12+D12+E12+F12+G12+H12 -> 260 | J12: =(C12*5)+(D12*4)+(E12*3)+(F12*2)+(G12*1) -> 1204 | K12: =J12/I12 -> 4.6307692 | L12: 0.596
B13: ร้อยละ | C13: =C12*100/I12 -> 64.230769 | D13: =D12*100/I12 -> 34.615385 | E13: =E12*100/I12 -> 1.1538462 | F13: =F12*100/I12 -> 0 | G13: =G12*100/I12 -> 0 | H13: =H12*100/I12 -> 0 | I13: =SUM(C13:H13) -> 100
A14: 2. สื่อ/เอกสารประกอบการถ่ายทอดความรู้ (เช่น หนังสือ คู่มือ แผ่นพับ CDฯลฯ)
A15: 2.1 ดึงดูดความสนใจ | B15: จำนวน | C15: 89 | D15: 135 | E15: 36 | F15: 0 | G15: 0 | H15: 0 | I15: =C15+D15+E15+F15+G15+H15 -> 260 | J15: =(C15*5)+(D15*4)+(E15*3)+(F15*2)+(G15*1) -> 1093 | K15: =J15/I15 -> 4.2038462 | L15: 0.732
B16: ร้อยละ | C16: =C15*100/I15 -> 34.230769 | D16: =D15*100/I15 -> 51.923077 | E16: =E15*100/I15 -> 13.846154 | F16: =F15*100/I15 -> 0 | G16: =G15*100/I15 -> 0 | H16: =H15*100/I15 -> 0 | I16: =SUM(C16:H16) -> 100
A17: 2.2 ง่ายต่อการนำไปใช้ | B17: จำนวน | C17: 143 | D17: 84 | E17: 33 | F17: 0 | G17: 0 | H17: 0 | I17: =C17+D17+E17+F17+G17+H17 -> 260 | J17: =(C17*5)+(D17*4)+(E17*3)+(F17*2)+(G17*1) -> 1150 | K17: =J17/I17 -> 4.4230769 | L17: 0.592
B18: ร้อยละ | C18: =C17*100/I17 -> 55 | D18: =D17*100/I17 -> 32.307692 | E18: =E17*100/I17 -> 12.692308 | F18: =F17*100/I17 -> 0 | G18: =G17*100/I17 -> 0 | H18: =H17*100/I17 -> 0 | I18: =SUM(C18:H18) -> 100
A19: 2.3 เหมาะสมกับผู้รับความรู้ | B19: จำนวน | C19: 167 | D19: 76 | E19: 17 | F19: 0 | G19: 0 | H19: 0 | I19: =C19+D19+E19+F19+G19+H19 -> 260 | J19: =(C19*5)+(D19*4)+(E19*3)+(F19*2)+(G19*1) -> 1190 | K19: =J19/I19 -> 4.5769231 | L19: 0.564
B20: ร้อยละ | C20: =C19*100/I19 -> 64.230769 | D20: =D19*100/I19 -> 29.230769 | E20: =E19*100/I19 -> 6.5384615 | F20: =F19*100/I19 -> 0 | G20: =G19*100/I19 -> 0 | H20: =H19*100/I19 -> 0 | I20: =SUM(C20:H20) -> 100
A21: 2.4 มีความเพียงพอต่อจำนวนผู้รับความรู้ | B21: จำนวน | C21: 134 | D21: 98 | E21: 28 | F21: 0 | G21: 0 | H21: 0 | I21: =C21+D21+E21+F21+G21+H21 -> 260 | J21: =(C21*5)+(D21*4)+(E21*3)+(F21*2)+(G21*1) -> 1146 | K21: =J21/I21 -> 4.4076923 | L21: 0.592
B22: ร้อยละ | C22: =C21*100/I21 -> 51.538462 | D22: =D21*100/I21 -> 37.692308 | E22: =E21*100/I21 -> 10.769231 | F22: =F21*100/I21 -> 0 | G22: =G21*100/I21 -> 0 | H22: =H21*100/I21 -> 0 | I22: =SUM(C22:H22) -> 100
A23: 3. รูปแบบการถ่ายทอดความรู้ (เช่น การบรรยาย การฝึกปฏิบัติ การทำกิจกรรม การดูงาน การทำกลุ่ม การทำกิจกรรมค่าย ฯลฯ)
A24: 3.1 เหมาะสมกับเนื้อหา | B24: จำนวน | C24: 159 | D24: 92 | E24: 9 | F24: 0 | G24: 0 | H24: 0 | I24: =C24+D24+E24+F24+G24+H24 -> 260 | J24: =(C24*5)+(D24*4)+(E24*3)+(F24*2)+(G24*1) -> 1190 | K24: =J24/I24 -> 4.5769231 | L24: 0.501
B25: ร้อยละ | C25: =C24*100/I24 -> 61.153846 | D25: =D24*100/I24 -> 35.384615 | E25: =E24*100/I24 -> 3.4615385 | F25: =F24*100/I24 -> 0 | G25: =G24*100/I24 -> 0 | H25: =H24*100/I24 -> 0 | I25: =SUM(C25:H25) -> 100
A26: 3.2 เหมาะสมกับผู้รับความรู้ | B26: จำนวน | C26: 154 | D26: 97 | E26: 8 | F26: 0 | G26: 0 | H26: 0 | I26: =C26+D26+E26+F26+G26+H26 -> 259 | J26: =(C26*5)+(D26*4)+(E26*3)+(F26*2)+(G26*1) -> 1182 | K26: =J26/I26 -> 4.5637066 | L26: 0.527
B27: ร้อยละ | C27: =C26*100/I26 -> 59.459459 | D27: =D26*100/I26 -> 37.451737 | E27: =E26*100/I26 -> 3.0888031 | F27: =F26*100/I26 -> 0 | G27: =G26*100/I26 -> 0 | H27: =H26*100/I26 -> 0 | I27: =SUM(C27:H27) -> 100
A28: 3.3 เปิดโอกาสให้ผู้เข้ารับความรู้มีส่วนร่วม | B28: จำนวน | C28: 128 | D28: 96 | E28: 36 | F28: 0 | G28: 0 | H28: 0 | I28: =C28+D28+E28+F28+G28+H28 -> 260 | J28: =(C28*5)+(D28*4)+(E28*3)+(F28*2)+(G28*1) -> 1132 | K28: =J28/I28 -> 4.3538462 | L28: 0.51
B29: ร้อยละ | C29: =C28*100/I28 -> 49.230769 | D29: =D28*100/I28 -> 36.923077 | E29: =E28*100/I28 -> 13.846154 | F29: =F28*100/I28 -> 0 | G29: =G28*100/I28 -> 0 | H29: =H28*100/I28 -> 0 | I29: =SUM(C29:H29) -> 100
A30: 4. วิทยากร
A31: 4.1 สอนตรงกับเนื้อหา | B31: จำนวน | C31: 156 | D31: 89 | E31: 15 | F31: 0 | G31: 0 | H31: 0 | I31: =C31+D31+E31+F31+G31+H31 -> 260 | J31: =(C31*5)+(D31*4)+(E31*3)+(F31*2)+(G31*1) -> 1181 | K31: =J31/I31 -> 4.5423077 | L31: 0.56
B32: ร้อยละ | C32: =C31*100/I31 -> 60 | D32: =D31*100/I31 -> 34.230769 | E32: =E31*100/I31 -> 5.7692308 | F32: =F31*100/I31 -> 0 | G32: =G31*100/I31 -> 0 | H32: =H31*100/I31 -> 0 | I32: =100 -> 100
A33: 4.2 สอนเข้าใจง่าย | B33: จำนวน | C33: 148 | D33: 98 | E33: 14 | F33: 0 | G33: 0 | H33: 0 | I33: =C33+D33+E33+F33+G33+H33 -> 260 | J33: =(C33*5)+(D33*4)+(E33*3)+(F33*2)+(G33*1) -> 1174 | K33: =J33/I33 -> 4.5153846 | L33: 0.551
B34: ร้อยละ | C34: =C33*100/I33 -> 56.923077 | D34: =D33*100/I33 -> 37.692308 | E34: =E33*100/I33 -> 5.3846154 | F34: =F33*100/I33 -> 0 | G34: =G33*100/I33 -> 0 | H34: =H33*100/I33 -> 0 | I34: =100 -> 100
A35: 5. ระยะเวลาที่ใช้ในการถ่ายทอดความรู้มีความเหมาะสม | B35: จำนวน | C35: 167 | D35: 76 | E35: 17 | F35: 0 | G35: 0 | H35: 0 | I35: =C35+D35+E35+F35+G35+H35 -> 260 | J35: =(C35*5)+(D35*4)+(E35*3)+(F35*2)+(G35*1) -> 1190 | K35: =J35/I35 -> 4.5769231 | L35: 0.527
B36: ร้อยละ | C36: =C35*100/I35 -> 64.230769 | D36: =D35*100/I35 -> 29.230769 | E36: =E35*100/I35 -> 6.5384615 | F36: =F35*100/I35 -> 0 | G36: =G35*100/I35 -> 0 | H36: =H35*100/I35 -> 0 | I36: =100 -> 100

Sheet ข้อคิดเห็น
A2: ข้อคิดเห็นและข้อเสนอแนะอื่นๆ | B2: จำนวนผู้ตอบ
A3: ไม่มี
A14: สรุปผล
A16: ด้าน | B16: คะแนนเฉลี่ย | C16: ค่าร้อยละของคะแนน
A17: 1. เนื้อหาความรู้ที่ได้รับ | B17: =(ส่วน2!K6+ส่วน2!K8+ส่วน2!K10+ส่วน2!K12)/4 -> 4.4721154 | C17: =B17*100/5 -> 89.442308
A18: 2. สื่อ/เอกสารประกอบการถ่ายทอดความรู้ (เช่น หนังสือ คู่มือ แผ่นพับ CDฯลฯ) | B18: =(ส่วน2!K15+ส่วน2!K17+ส่วน2!K19+ส่วน2!K21)/4 -> 4.4028846 | C18: =B18*100/5 -> 88.057692
A19: 3. รูปแบบการถ่ายทอดความรู้ (เช่น การบรรยาย การฝึกปฏิบัติ การทำกิจกรรม การดูงาน การทำกลุ่ม การทำกิจกรรมค่าย ฯลฯ) | B19: =(ส่วน2!K24+ส่วน2!K26+ส่วน2!K28)/3 -> 4.4981586 | C19: =B19*100/5 -> 89.963172
A20: 4. วิทยากร | B20: =(ส่วน2!K31+ส่วน2!K33)/2 -> 4.5288462 | C20: =B20*100/5 -> 90.576923
A21: 5. ระยะเวลาที่ใช้ในการถ่ายทอดความรู้มีความเหมาะสม | B21: =ส่วน2!K35 -> 4.5769231 | C21: =B21*100/5 -> 91.538462
A22: รวม | B22: =AVERAGE(B17:B21) -> 4.4957856 | C22: =AVERAGE(C17:C21) -> 89.915711
A25: ชื่อผู้ประสานงาน นายวิษณุกร นาชัยดูลย์ หน่วยงาน ศูนย์สุขภาพจิตที่ 7 จังหวัดขอนแก่น
A26: เบอร์โทรศัพท์ 043-327641 ภายใน 63329
A27: E-mail : wisanukron2530@gmail.com
